BEGIN:VCALENDAR
VERSION:2.0
PRODID:-//eventon.com NONSGML v1.0//EN
CALSCALE:GREGORIAN
METHOD:PUBLISH
BEGIN:VEVENT
UID:69e685af86201
DTSTAMP:20260420T195943Z
DTSTART:20241006T073000Z
DTEND:20241006T081500Z
LOCATION:Ingerslevs Boulevard Ingerslevs Boulevard
SUMMARY:YO x GLAD OUTDOOR: SUNDAY CIRCUIT TRAINING
DESCRIPTION:YO STUDIOS og Café GLAD gentager succesen med vores søndags o
 utdoor-events som et mere eller mindre fast koncept 🏋️‍♀️☀️ 
 Den første søndag i hver måned byder vi på en omgang udendørs YO Circu
 it Training med YO&#8217;s dygtige undervisere efterfulgt af en lækker for
 friskning fra GLAD 🍋 Søndag d. 1. september[..]\nhttps://danseparaplyen
 .dk/events/yo-x-glad-outdoor-sunday-circuit-training/
URL:https://danseparaplyen.dk/events/yo-x-glad-outdoor-sunday-circuit-training/
END:VEVENT
END:VCALENDAR