BEGIN:VCALENDAR
VERSION:2.0
PRODID:-//eventon.com NONSGML v1.0//EN
CALSCALE:GREGORIAN
METHOD:PUBLISH
BEGIN:VEVENT
UID:69e810b91e7ce
DTSTAMP:20260422T000513Z
DTSTART:20241012T200000Z
DTEND:20241013T020000Z
LOCATION:CasaV58 CasaV58
SUMMARY:AFROBEATS - Autumn Holiday Edition
DESCRIPTION:AFROBEATS &#8211; Autumn Holiday Edition Autumn is on its way a
 nd luckily holidays too &#8211; sooo get r e a d y for another hot party! E
 VERYBODY ON THE SPOT!! Arrive before 11pm and get in 2 for 1. Without any d
 oubt we offer the best and most authentic Afro[..]\nhttps://danseparaplyen.
 dk/events/afrobeats-autumn-holiday-edition/
URL:https://danseparaplyen.dk/events/afrobeats-autumn-holiday-edition/
END:VEVENT
END:VCALENDAR