BEGIN:VCALENDAR
VERSION:2.0
PRODID:-//eventon.com NONSGML v1.0//EN
CALSCALE:GREGORIAN
METHOD:PUBLISH
BEGIN:VEVENT
UID:69ed9391a3285
DTSTAMP:20260426T042449Z
DTSTART:20241101T210000Z
DTEND:20241102T020000Z
LOCATION:Vestergade 58\,  8000 Aarhus\,  Denmark Vestergade 58\,  8000 Aarhus\,  Denmark
SUMMARY:EQual Club - The halloween underground by Spotlight Space
DESCRIPTION:Event Description: Halloween UndergroundTitle:The Halloween Und
 erground – A Night of Fire Beats and Spooky Vibes Date:November 1 Time: 2
 2 &#8211; 03Place: EQual Club Get ready for the wildest Halloween bash in t
 own – Halloween Underground! A night where the beats hit hard\,  costumes
  are on point\,  and the vibes are[..]\nhttps://danseparaplyen.dk/events/eq
 ual-club-flow-presents-spotlight-space/
URL:https://danseparaplyen.dk/events/equal-club-flow-presents-spotlight-space/
END:VEVENT
END:VCALENDAR