BEGIN:VCALENDAR
VERSION:2.0
PRODID:-//eventon.com NONSGML v1.0//EN
CALSCALE:GREGORIAN
METHOD:PUBLISH
BEGIN:VEVENT
UID:69e5ad01c12c5
DTSTAMP:20260420T043513Z
DTSTART:20241004T144500Z
DTEND:20241004T230000Z
LOCATION:KirkegÃ¥rdsvej 53\,  8000 Aarhus\,  Denmark KirkegÃ¥rdsvej 53\,  8000 Aarhus\,  Denmark
SUMMARY:Salsa Social Extravaganza
DESCRIPTION:Salsa Social Aarhus &#038; Nordic Salsa Camp present: ð—¦ð—®ð
 —¹ð˜€ð—® ð—¦ð—¼ð—°ð—¶ð—®ð—¹ ð—˜ð˜…ð˜ð—¿ð—®ð˜ƒð—®ð—»ð—´ð
 —®ð—»ð˜‡ð—® ð˜„ð—¶ð˜ð—µ ð—Ÿð˜‚ð—¶ð˜€ ð——ð˜‚ð—®ð—¿ð˜ð—² &
 #038; ð—¦ð—¼ð—³ð—¶ð—® ð——ð—² ð—˜ð—»ð—±ð—®ð˜†ð—® Weâ€™ve been i
 tching to share this exciting news with you\,  and now we can finally spill
  the beans! On October 4th\,  2024\,  we are thrilled to welcome the incred
 ible Luis Duarte &#038;[..]\nhttps://danseparaplyen.dk/events/salsa-social-
 extravaganza/
URL:https://danseparaplyen.dk/events/salsa-social-extravaganza/
END:VEVENT
END:VCALENDAR