BEGIN:VCALENDAR
VERSION:2.0
PRODID:-//eventon.com NONSGML v1.0//EN
CALSCALE:GREGORIAN
METHOD:PUBLISH
BEGIN:VEVENT
UID:69e66ae744f6d
DTSTAMP:20260420T180527Z
DTSTART:20241005T160000Z
DTEND:20241006T000000Z
LOCATION:Toldbodgade 8\,  8000 Aarhus C\,  Danmark Toldbodgade 8\,  8000 Aarhus C\,  Danmark
SUMMARY:KNS Open House & Party
DESCRIPTION:𝑬𝑵𝑮𝑳𝑰𝑺𝑯 𝑩𝑬𝑳𝑶𝑾 Vi fejrer åb
 ningen af vores nye dansestudie i hjertet af Aarhus 🥁 og vi glæder os t
 il at se dig og dine venner til en dag/aften fyldt med dans 💃🕺dejlige
  mennesker og godt humør! 🥰 Hvis du har lyst til at være en del af et 
 dansestudie\,  hvor[..]\nhttps://danseparaplyen.dk/events/kns-open-house-pa
 rty/
URL:https://danseparaplyen.dk/events/kns-open-house-party/
END:VEVENT
END:VCALENDAR