BEGIN:VCALENDAR
VERSION:2.0
PRODID:-//eventon.com NONSGML v1.0//EN
CALSCALE:GREGORIAN
METHOD:PUBLISH
BEGIN:VEVENT
UID:69ed7b83b9e0a
DTSTAMP:20260426T024211Z
DTSTART:20241101T190000Z
DTEND:20241101T220000Z
LOCATION:Folkestedet Folkestedet
SUMMARY:Friday Night Social Dance
DESCRIPTION:Dear fellow lindy hoppers\,  At Social Dancing\,  you can meet 
 your fellow lindy hoppers and practice all the moves you have learned in cl
 ass by dancing with lindy hoppers from all levels. Remember to bring your d
 rinks\,  a towel and an extra t-shirt. Place: Folkestedet\,  Room 1.4 (danc
 e room upstairs)[..]\nhttps://danseparaplyen.dk/events/friday-night-social-
 dance-5/
URL:https://danseparaplyen.dk/events/friday-night-social-dance-5/
END:VEVENT
END:VCALENDAR