BEGIN:VCALENDAR
VERSION:2.0
PRODID:-//eventon.com NONSGML v1.0//EN
CALSCALE:GREGORIAN
METHOD:PUBLISH
BEGIN:VEVENT
UID:69e4d91b13e47
DTSTAMP:20260419T133107Z
DTSTART:20241001T170000Z
DTEND:20241001T200000Z
LOCATION:Folkestedet Folkestedet
SUMMARY:Zouklounge 1/10
DESCRIPTION:Program:19-20: Drop-in WS med Morten. Open level.20-22: Fri dan
 s. Sted: Folkestedet\,  lokale 1.1 (på første sal). Ring evt. på klokken
  ved vores seddel på yderdøren. Teaching will be in English or Danish dep
 ending on participants. Pris: Gratis. Men hvis du kommer ofte\,  bør du me
 lde dig ind i Aarhus Zoukforening:[..]\nhttps://danseparaplyen.dk/events/zo
 uklounge-1-10/
URL:https://danseparaplyen.dk/events/zouklounge-1-10/
END:VEVENT
END:VCALENDAR