BEGIN:VCALENDAR
VERSION:2.0
PRODID:-//eventon.com NONSGML v1.0//EN
CALSCALE:GREGORIAN
METHOD:PUBLISH
BEGIN:VEVENT
UID:69e51f231e71b
DTSTAMP:20260419T182955Z
DTSTART:20241002T143500Z
DTEND:20241002T152500Z
LOCATION:Grønnegade 93E\,  8000 Aarhus C\,  Danmark
SUMMARY:Shuffle! Drop in class!
DESCRIPTION:📢📢 NYHED 📢📢 DROP IN CLASS med SHUFFLE STINE 🔥
 🔥 Hvad undervises der i? 🙋‍♀️ En samling af alt det fede fra s
 huffle dance: moves\,  teknik og koreografi. Det bliver hammer hedt og med 
 ekstra meget bass i højtalerne. Husk normale sko\,  håndklæde og drikked
 unk! ✨ Tid: kl. 16:35-17:25 (50[..]\nhttps://danseparaplyen.dk/events/shu
 ffle-drop-in-class/
URL:https://danseparaplyen.dk/events/shuffle-drop-in-class/
END:VEVENT
END:VCALENDAR