BEGIN:VCALENDAR
VERSION:2.0
PRODID:-//eventon.com NONSGML v1.0//EN
CALSCALE:GREGORIAN
METHOD:PUBLISH
BEGIN:VEVENT
UID:69e5386dd0431
DTSTAMP:20260419T201749Z
DTSTART:20241002T170000Z
DTEND:20241002T190000Z
LOCATION:Samsøgades Skole Samsøgades Skole
SUMMARY:Onsdagsdans
DESCRIPTION:Dans Dans Dans.Husk at melde ind her om du kommer eller ej.Og t
 jek begivenheden inden du kører hjemmefra. https://www.facebook.com/events
 /1863449031147867/\nhttps://danseparaplyen.dk/events/onsdagsdans/
URL:https://danseparaplyen.dk/events/onsdagsdans/
END:VEVENT
END:VCALENDAR