BEGIN:VCALENDAR
VERSION:2.0
PRODID:-//eventon.com NONSGML v1.0//EN
CALSCALE:GREGORIAN
METHOD:PUBLISH
BEGIN:VEVENT
UID:69e5966ca63c7
DTSTAMP:20260420T025852Z
DTSTART:20241003T190000Z
DTEND:20241003T230000Z
LOCATION:CasaV58 CasaV58
SUMMARY:JAM NIGHT - Thursday after Thursday
DESCRIPTION:Aftenens Jam aflyses desværre &#8211; grundet sygdom. Torsdags
  Jam er flyttet fra Skole- til Vestergade‼️ På adressen Vestergade 58 
 ligger nemlig det sidste dybt forankrede spillested i Århus.CasaV58 har sa
 mlet bolden op\,  og Jam´en begynder så småt\,  at tage form. Vi kan med
  stor glæde råbe til hele Aarhus og[..]\nhttps://danseparaplyen.dk/events
 /jam-night-thursday-after-thursday-3/
URL:https://danseparaplyen.dk/events/jam-night-thursday-after-thursday-3/
END:VEVENT
END:VCALENDAR