BEGIN:VCALENDAR
VERSION:2.0
PRODID:-//eventon.com NONSGML v1.0//EN
CALSCALE:GREGORIAN
METHOD:PUBLISH
BEGIN:VEVENT
UID:69e5dd5a82de4
DTSTAMP:20260420T080130Z
DTSTART:20241004T170000Z
DTEND:20241004T220000Z
LOCATION:damagervej 10\,  8260 Viby j damagervej 10\,  8260 Viby j
SUMMARY:✨LATIN party ✨- BACHATA & SALSA! 🕺🏻
DESCRIPTION:Så er vi tilbage med en LATIN party på Tropica! Er I klar til
  en lækker latinaften? Fredag d. 4. oktober 2024 med Stefan &#038; Charlot
 te👏🔥🔥🔥 1 Bachata workshopSocial party of Bachata/salsa Dresscod
 e: LATINO/LATINA 💥BACHATA workshop og social 💥 ! OBS ! 📸 ➡️ De
 r vil til dette event blive[..]\nhttps://danseparaplyen.dk/events/%e2%9c%a8
 latin-party-%e2%9c%a8-bachata-salsa-%f0%9f%95%ba%f0%9f%8f%bb/
URL:https://danseparaplyen.dk/events/%e2%9c%a8latin-party-%e2%9c%a8-bachata-salsa-%f0%9f%95%ba%f0%9f%8f%bb/
END:VEVENT
END:VCALENDAR