BEGIN:VCALENDAR
VERSION:2.0
PRODID:-//eventon.com NONSGML v1.0//EN
CALSCALE:GREGORIAN
METHOD:PUBLISH
BEGIN:VEVENT
UID:69e5f75e28f1b
DTSTAMP:20260420T095230Z
DTSTART:20241004T200000Z
DTEND:20241005T030000Z
LOCATION:CasaV58 CasaV58
SUMMARY:๐๐จ๐ฒ๐๐ ๐ ๐๐ฏ๐๐ง๐ญ๐ฌ - ๐๐ฑ๐ฒ๐๐ฅ๐ฎ๐ฑ & ๐๐ข๐ ๐ก๐ญ ๐๐ข๐ฌ๐ข๐จ๐ง ๐๐๐๐ - ๐๐๐ซ๐ก๐ฎ๐ฌ
DESCRIPTION:โโโโโโโโโโโโโโโโ๐๐จ๐ฒ๐
 ๐ ๐ ๐๐ฏ๐๐ง๐ญ๐ฌ &#8211; ๐๐ฌ๐ฒ๐ญ๐ซ๐๐ง๐
 ๐ &#8211; ๐๐๐ซ๐ก๐ฎ๐ฌ ๐โโโโโโโโโโโ
 โ.โบ.โโ The winter season has begun\,  and we&#8217;re back at Aarhu
 s Downtown with the best sound possible! Casa V58 is an ideal match for the
  d&#038;b audiotechnik sound system\,  and every time weโre amazed at how
  great it sounds. This time\,  weโre excited to[..]\nhttps://danseparaply
 en.dk/events/%f0%9d%90%95%f0%9d%90%a8%f0%9d%90%b2%f0%9d%90%9a%f0%9d%90%a0%f
 0%9d%90%9e-%f0%9d%90%84%f0%9d%90%af%f0%9d%90%9e%f0%9d%90%a7%f0%9d%90%ad%f0%
 9d%90%ac-%f0%9d%90%8e%f0%9d%90%b1%f0%9d%90%b2%f0%9d%90%85/
URL:https://danseparaplyen.dk/events/%f0%9d%90%95%f0%9d%90%a8%f0%9d%90%b2%f0%9d%90%9a%f0%9d%90%a0%f0%9d%90%9e-%f0%9d%90%84%f0%9d%90%af%f0%9d%90%9e%f0%9d%90%a7%f0%9d%90%ad%f0%9d%90%ac-%f0%9d%90%8e%f0%9d%90%b1%f0%9d%90%b2%f0%9d%90%85/
END:VEVENT
END:VCALENDAR