BEGIN:VCALENDAR
VERSION:2.0
PRODID:-//eventon.com NONSGML v1.0//EN
CALSCALE:GREGORIAN
METHOD:PUBLISH
BEGIN:VEVENT
UID:69e611f46c41c
DTSTAMP:20260420T114556Z
DTSTART:20241005T171500Z
DTEND:20241005T220000Z
LOCATION:Folkestedet Carl Blochs Gade 28 \,  Aarhus C Folkestedet Carl Blochs Gade 28 \,  Aarhus C
SUMMARY:Latin & Kizomba Party + 2 Workshops > Bachata & Salsa <
DESCRIPTION:🎉 LATIN &#038; Kizomba PARTY 🎉👌 PRICE 30kr / CASH or M
 OBILE PAY👉 👉 Provides access to both dance floors ❌ NB! &gt;&gt; BR
 INGING your own drinks /water is NOT ALOWED 🍹 Affordable prices in the b
 ar &gt;Vine /Beers /Soda/Water20kr/20kr/20kr/10krPROGRAM FOR THE NIGHT ☆ 
 ● 19.15 &#8211; DOORS OPEN● 19.30[..]\nhttps://danseparaplyen.dk/events
 /latin-kizomba-party-2-workshops-bachata-salsa-8/
URL:https://danseparaplyen.dk/events/latin-kizomba-party-2-workshops-bachata-salsa-8/
END:VEVENT
END:VCALENDAR