BEGIN:VCALENDAR
VERSION:2.0
PRODID:-//eventon.com NONSGML v1.0//EN
CALSCALE:GREGORIAN
METHOD:PUBLISH
BEGIN:VEVENT
UID:69e8274876184
DTSTAMP:20260422T014128Z
DTSTART:20241011T190000Z
DTEND:20241012T000000Z
LOCATION:CasaV58 CasaV58
SUMMARY:Funky Friday
DESCRIPTION:Do you wanna funk with us?! Friday the 11 of oct. we will again
  open the doors to a party\,  where we will &#8220;Get Down on It&#8221; an
 d turn the dance floor &#8220;Upside Down&#8221;.It&#8217;s gonna be &#8220
 ;Hot Stuff&#8221;\,  so let&#8217;s get funky and &#8220;Super Freak&#8221;
  together!! Our dj´s knows what[..]\nhttps://danseparaplyen.dk/events/funk
 y-friday-2/
URL:https://danseparaplyen.dk/events/funky-friday-2/
END:VEVENT
END:VCALENDAR