BEGIN:VCALENDAR
VERSION:2.0
PRODID:-//eventon.com NONSGML v1.0//EN
CALSCALE:GREGORIAN
METHOD:PUBLISH
BEGIN:VEVENT
UID:69ed0af910d33
DTSTAMP:20260425T184201Z
DTSTART:20241031T213000Z
DTEND:20241101T020000Z
LOCATION:CasaV58 CasaV58
SUMMARY:Día de los Muertos - Latin Party
DESCRIPTION:⬇️ENGLISH⬇️ Día de Muertos &#8211; Latin Party ¡¡Pre
 párate para celebrar no solo con los amigos pero tambien con los ancestros
 !¡¡Y NO te quedes atrás con el disfraz! El día de los muertos se celebr
 a ampliamente en América Latina\,  especialmente en México.Por eso &#8230
 ;&#8230;. fiesta y mucho tequila !! ▪️Tragos con[..]\nhttps://dansepara
 plyen.dk/events/dia-de-los-muertos-latin-party/
URL:https://danseparaplyen.dk/events/dia-de-los-muertos-latin-party/
END:VEVENT
END:VCALENDAR