BEGIN:VCALENDAR
VERSION:2.0
PRODID:-//eventon.com NONSGML v1.0//EN
CALSCALE:GREGORIAN
METHOD:PUBLISH
BEGIN:VEVENT
UID:69ece3b958829
DTSTAMP:20260425T155433Z
DTSTART:20241030T180000Z
DTEND:20241030T200000Z
LOCATION:Samsøgades Skole Samsøgades Skole
SUMMARY:Onsdagsdans
DESCRIPTION:Dans Dans Dans.Husk at melde ind her om du kommer eller ej.Og t
 jek begivenheden inden du kører hjemmefra.\nhttps://danseparaplyen.dk/even
 ts/onsdagsdans-2/
URL:https://danseparaplyen.dk/events/onsdagsdans-2/
END:VEVENT
END:VCALENDAR