BEGIN:VCALENDAR
VERSION:2.0
PRODID:-//eventon.com NONSGML v1.0//EN
CALSCALE:GREGORIAN
METHOD:PUBLISH
BEGIN:VEVENT
UID:69ed4e6f84b44
DTSTAMP:20260425T232951Z
DTSTART:20241101T180000Z
DTEND:20241101T220000Z
LOCATION:Folkestedet Folkestedet
SUMMARY:FredagsPractica med TangoLab/Peter Elias
DESCRIPTION:Kære tangovennerDenne fredag faciliterer Peter Elias TangoLab 
 inden aftens Practica/Milonga.En fantastisk medvært er helt sikkert også 
 tilstede♥️ Prisen er 30 kr. for medlemmer og 50 kr for gæster. Entre/V
 IP medlemsskab inkluderer lidt godt til ganen.Du kan også gå på hjemmesi
 den og få VIP practica medlemsskab – så er alle årets[..]\nhttps://dan
 separaplyen.dk/events/fredagspractica-med-tangolab-peter-elias/
URL:https://danseparaplyen.dk/events/fredagspractica-med-tangolab-peter-elias/
END:VEVENT
END:VCALENDAR