BEGIN:VCALENDAR
VERSION:2.0
PRODID:-//eventon.com NONSGML v1.0//EN
CALSCALE:GREGORIAN
METHOD:PUBLISH
BEGIN:VEVENT
UID:69ed272984ca2
DTSTAMP:20260425T204217Z
DTSTART:20241029T180000Z
DTEND:20241029T210000Z
LOCATION:Folkestedet Folkestedet
SUMMARY:Zouk Lounge 29/10 + Ekstraordinær Generalforsamling
DESCRIPTION:Program: 19.00 &#8211; 20.00: Drop-in WS med Ann-Marie og Rasmu
 s. Tema: Sjove indgange til pião. Niveuet er omkring improver &#8211; dvs.
  man skal have godt styr på basic step\,  lateral og simple turn. 20.00 &#
 8211; 20.10: Ekstraordinær Generalforsamling (program udsendt på mail til
  medlemmer) 20.10 &#8211; 21.45: Fri dans Sted:[..]\nhttps://danseparaplyen
 .dk/events/zouk-lounge-29-10-ekstraordinaer-generalforsamling/
URL:https://danseparaplyen.dk/events/zouk-lounge-29-10-ekstraordinaer-generalforsamling/
END:VEVENT
END:VCALENDAR