BEGIN:VCALENDAR
VERSION:2.0
PRODID:-//eventon.com NONSGML v1.0//EN
CALSCALE:GREGORIAN
METHOD:PUBLISH
BEGIN:VEVENT
UID:69ed24262b5c5
DTSTAMP:20260425T202926Z
DTSTART:20241031T200000Z
DTEND:20241101T000000Z
LOCATION:CasaV58 CasaV58
SUMMARY:JAM NIGHT - Thursday after Thursday
DESCRIPTION:Torsdag efter torsdag kører Jam’en nu ufortrødent‼️ På
  adressen Vestergade 58 ligger nemlig det sidste dybt forankrede spillested
  i Århus.CasaV58 har samlet bolden op\,  og Jam´en begynder så småt\,  
 at tage form. Vi kan med stor glæde råbe til hele Aarhus og resten af Dan
 mark at torsdags pop/rock jamsession lever[..]\nhttps://danseparaplyen.dk/e
 vents/jam-night-thursday-after-thursday-4/
URL:https://danseparaplyen.dk/events/jam-night-thursday-after-thursday-4/
END:VEVENT
END:VCALENDAR