BEGIN:VCALENDAR
VERSION:2.0
PRODID:-//eventon.com NONSGML v1.0//EN
CALSCALE:GREGORIAN
METHOD:PUBLISH
BEGIN:VEVENT
UID:69ed665b7d6ef
DTSTAMP:20260426T011155Z
DTSTART:20241101T150000Z
DTEND:20241101T203000Z
LOCATION:Folkestedet Folkestedet
SUMMARY:Peña aften i Flamencoforeningen
DESCRIPTION:Vi starter med juletangos kl 16 &#8211; så kridt danseskoene. 
 Herefter ser vi filmen Las Tarantos med Carmen AMaya og Antonio Gades. Der 
 vil være snacks for free og vin og vand kan købes. Det vil være dejligt 
 hvis I tilmelder jer ved at trykke “deltager”\nhttps://danseparaplyen.d
 k/events/pena-aften-i-flamencoforeningen/
URL:https://danseparaplyen.dk/events/pena-aften-i-flamencoforeningen/
END:VEVENT
END:VCALENDAR