BEGIN:VCALENDAR
VERSION:2.0
PRODID:-//eventon.com NONSGML v1.0//EN
CALSCALE:GREGORIAN
METHOD:PUBLISH
BEGIN:VEVENT
UID:69ed1144f38d2
DTSTAMP:20260425T190852Z
DTSTART:20250420T140000Z
DTEND:20250420T170000Z
LOCATION:CasaV58 CasaV58
SUMMARY:Blues Session Vært: Big Martin
DESCRIPTION:Kom og vær’ med når Aarhus Bluesforening og CasaV58 byder t
 il Blues Session et par timer søndag d. 20 april. Dørene åbner kl. 15.30
 . Ingen ved helt hvad denne søndag bringer\,  en ting er sikkert\,  det bl
 iver en unik oplevelse.Er du musiker\,  så duk op med dit instrument under
  armen.Entré[..]\nhttps://danseparaplyen.dk/events/blues-session-vaert-big
 -martin/
URL:https://danseparaplyen.dk/events/blues-session-vaert-big-martin/
END:VEVENT
END:VCALENDAR