BEGIN:VCALENDAR
VERSION:2.0
PRODID:-//eventon.com NONSGML v1.0//EN
CALSCALE:GREGORIAN
METHOD:PUBLISH
BEGIN:VEVENT
UID:69ec9d55a97db
DTSTAMP:20260425T105413Z
DTSTART:20250426T190000Z
DTEND:20250426T230000Z
LOCATION:CasaV58 CasaV58
SUMMARY:Sóngoro Cosongo - Live Salsa Concert
DESCRIPTION:Versión en español a seguir👇🏼 Sóngoro Cosongo &#8211; 
 Live Salsa Concert Aarhus and perhaps Denmark&#8217;s biggest salsa orchest
 ra returns to CasaV58\,  and is ready for a dance-happy salsa evening!! Doo
 rs open at 9 p.m.Concert start at 10 p.m.Admission in advance sale DKK 140.
 Admission DKK 160 at the door.Please follow link:https://www.place2book.com
 /da/sw2/sales/ow9s6xjn2a[..]\nhttps://danseparaplyen.dk/events/songoro-coso
 ngo-live-salsa-concert/
URL:https://danseparaplyen.dk/events/songoro-cosongo-live-salsa-concert/
END:VEVENT
END:VCALENDAR