BEGIN:VCALENDAR
VERSION:2.0
PRODID:-//eventon.com NONSGML v1.0//EN
CALSCALE:GREGORIAN
METHOD:PUBLISH
BEGIN:VEVENT
UID:69ece1f9d9273
DTSTAMP:20260425T154705Z
DTSTART:20250419T200000Z
DTEND:20250420T010000Z
LOCATION:EQualclub EQualclub
SUMMARY:RØSSA & FRIENDS #420 - Blazin' Hard Techno
DESCRIPTION:Hey everyone! We’re absolutely buzzing to invite you to one o
 f the most electrifying Hard Techno rave of spring 2025! RØSSA &#038; FRIE
 NDS is back with another intimate event\,  blending the raw\,  hard-hitting
  energy of PROJECT: TECHNO TÆKØVER with a fresh 420-inspired twist. On Ap
 ril 19\,  2025\,  we’re firing up[..]\nhttps://danseparaplyen.dk/events/r
 ossa-friends-420-blazin-hard-techno/
URL:https://danseparaplyen.dk/events/rossa-friends-420-blazin-hard-techno/
END:VEVENT
END:VCALENDAR