BEGIN:VCALENDAR
VERSION:2.0
PRODID:-//eventon.com NONSGML v1.0//EN
CALSCALE:GREGORIAN
METHOD:PUBLISH
BEGIN:VEVENT
UID:69ed260b333f5
DTSTAMP:20260425T203731Z
DTSTART:20250501T163000Z
DTEND:20250501T193000Z
LOCATION:Studenterhus Aarhus Studenterhus Aarhus
SUMMARY:Nordisk Dans Aarhus Bonusforløb
DESCRIPTION:Kan du godt lide at danse til Nordisk Dans\,  men har lyst til 
 at lære mere? Nordisk Dans Aarhus inviterer til et videregående danseforl
 øb!✨ Det er for dig som kan danse polka\,  vals og schottish\,  og som e
 r nysgerrig på at nørde teknik og mere avancerede danse💃🕺 Forløbet
  strækker sig[..]\nhttps://danseparaplyen.dk/events/nordisk-dans-aarhus-bo
 nusforlob-3/
URL:https://danseparaplyen.dk/events/nordisk-dans-aarhus-bonusforlob-3/
END:VEVENT
END:VCALENDAR