BEGIN:VCALENDAR
VERSION:2.0
PRODID:-//eventon.com NONSGML v1.0//EN
CALSCALE:GREGORIAN
METHOD:PUBLISH
BEGIN:VEVENT
UID:69ed11f74a7f6
DTSTAMP:20260425T191151Z
DTSTART:20251130T100000Z
DTEND:20251130T120000Z
LOCATION:Fjordsgade Fritids- og Foreningshus Fjordsgade Fritids- og Foreningshus
SUMMARY:Fællestræning: Aleksandra teknik/combos og 3/4-shimmies m. Birgitte/Marianne
DESCRIPTION:Fællestræning: Aleksandra med teknik og combos og 3/4-shimmie
 s m. Birgitte/Marianne PROGRAM:Kl. 11.00-12.00 Teknik og combos med Aleksan
 draKl. 12.10-13.00 3/4-shimmies\,  egyptisk gang\,  hagala\,  chicken walk\
 ,  boat walk osv.\,  undervisere Birgitte og Marianne STED:N.J. Fjordsgade 
 2\,  8000 Aarhus C.Vi er i gymnastiksal 1\,  bygning A TILMELDING:Husk tilm
 elding er påkrævet\,  så vi er[..]\nhttps://danseparaplyen.dk/events/fae
 llestraening-pa-fjordsgade-2/
URL:https://danseparaplyen.dk/events/faellestraening-pa-fjordsgade-2/
END:VEVENT
END:VCALENDAR