BEGIN:VCALENDAR
VERSION:2.0
PRODID:-//eventon.com NONSGML v1.0//EN
CALSCALE:GREGORIAN
METHOD:PUBLISH
BEGIN:VEVENT
UID:69e90a7c04359
DTSTAMP:20260422T175052Z
DTSTART:20251210T180000Z
DTEND:20251210T203000Z
LOCATION:Studenterhus Aarhus Studenterhus Aarhus
SUMMARY:Nordisk Dans Aarhus - 10. december: FESTLIGE FÆLLESDANSE
DESCRIPTION:Onsdag den 10. december mødes vi til endnu en danseaften\,  hv
 or temaet er FESTLIGE FÆLLESDANSE! 💃🕺Vi glæder os til igen at byde 
 på en festlig aften med levende musik\,  kolde øl/sodavand og selvfølgel
 ig en masse dans! Aftenen er GRATIS (😱)\,  og ALLE er velkomne\,  uanset
  om man har danset 0[..]\nhttps://danseparaplyen.dk/events/nordisk-dans-aar
 hus-3-december-festlige-faellesdanse/
URL:https://danseparaplyen.dk/events/nordisk-dans-aarhus-3-december-festlige-faellesdanse/
END:VEVENT
END:VCALENDAR