BEGIN:VCALENDAR
VERSION:2.0
PRODID:-//eventon.com NONSGML v1.0//EN
CALSCALE:GREGORIAN
METHOD:PUBLISH
BEGIN:VEVENT
UID:69ea6f67b8e30
DTSTAMP:20260423T191343Z
DTSTART:20251206T180000Z
DTEND:20251206T223000Z
LOCATION:Strandskolen Strandskolen
SUMMARY:Juledanseaften
DESCRIPTION:🎄 🎄 🎄Julefest på Strandskolen 🎄🎄 6. December 20
 25 KOD Aarhus afholder den årlige tilbagevendende Juledans for @alle danse
 re\,  og vi glæder os til at byde velkommen i juledansens tegn.🎄🤶
 ‍🎄 Kom til Juledanseaften på Strandskolen og sæt gang i julestemnin
 g og dansefødderne.👣Kl. 19.00-20.00 Forkursus med Benjamin og Ninna Kl.
  20.00-23.30[..]\nhttps://danseparaplyen.dk/events/juledanseaften/
URL:https://danseparaplyen.dk/events/juledanseaften/
END:VEVENT
END:VCALENDAR