BEGIN:VCALENDAR
VERSION:2.0
PRODID:-//eventon.com NONSGML v1.0//EN
CALSCALE:GREGORIAN
METHOD:PUBLISH
BEGIN:VEVENT
UID:69ec3c9dd425a
DTSTAMP:20260425T040133Z
DTSTART:20251216T180000Z
DTEND:20251216T203000Z
LOCATION:Folkestedet Folkestedet
SUMMARY:Swing cafe
DESCRIPTION:Der danses påFolkestedet\,  Carl Blochs Gade 28\,  8000 Aarhus
  Vi danser fra kl 19.00 &#8211; 21.30 Betaling sker i døren 30 kr pr. pers
 on via mobilepay (kontakt kun aftalte penge)Vi håber at se jer 💃🕺 ht
 tps://www.facebook.com/events/9644753482300535/?event_time_id=9644753505633
 866\nhttps://danseparaplyen.dk/events/swing-cafe-7/
URL:https://danseparaplyen.dk/events/swing-cafe-7/
END:VEVENT
END:VCALENDAR