BEGIN:VCALENDAR
VERSION:2.0
PRODID:-//eventon.com NONSGML v1.0//EN
CALSCALE:GREGORIAN
METHOD:PUBLISH
BEGIN:VEVENT
UID:69e920465491a
DTSTAMP:20260422T192350Z
DTSTART:20260321T180000Z
DTEND:20260321T210000Z
LOCATION:Strandskolen Strandskolen
SUMMARY:Danseaften på Strandskolen
DESCRIPTION:Hej alleSæt allrede nu X i kalenderen til sæsonen første dan
 seaftenDer vil kommer information når vi nærmer os.\nhttps://danseparaply
 en.dk/events/danseaften-pa-strandskolen-3/
URL:https://danseparaplyen.dk/events/danseaften-pa-strandskolen-3/
END:VEVENT
END:VCALENDAR