BEGIN:VCALENDAR
VERSION:2.0
PRODID:-//eventon.com NONSGML v1.0//EN
CALSCALE:GREGORIAN
METHOD:PUBLISH
BEGIN:VEVENT
UID:69ecae6ba3524
DTSTAMP:20260425T120707Z
DTSTART:20251130T160000Z
DTEND:20251130T190000Z
LOCATION:Folkestedet Folkestedet
SUMMARY:Lindy Lab
DESCRIPTION:We will meet on Sunday evening for some practice sessions.In Fo
 lkeatedet\,  in the big room (1.1). DISCLAIMER: THIS IS NOT A CLASS\,  and 
 NO INTRODUCTION TO LINDY HOP WILL BE GIVEN. Please\,  sign up for weekly cl
 asses if you want to learn to dance. We organise monthly events with taster
 [..]\nhttps://danseparaplyen.dk/events/lindy-lab-18/
URL:https://danseparaplyen.dk/events/lindy-lab-18/
END:VEVENT
END:VCALENDAR