BEGIN:VCALENDAR
VERSION:2.0
PRODID:-//eventon.com NONSGML v1.0//EN
CALSCALE:GREGORIAN
METHOD:PUBLISH
BEGIN:VEVENT
UID:69e87a53f1a37
DTSTAMP:20260422T073547Z
DTSTART:20251211T190000Z
DTEND:20251211T220000Z
LOCATION:CasaV58 CasaV58
SUMMARY:BUKI YAMAZ - UDSOLGT
DESCRIPTION:Efter 45 års “pause” vender det legendariske danske latin-
 funk-ensemble Buki Yamaz tilbage til scenen. Døre åbner kl. 19.00Koncerts
 tart kl. 20.00Billetpris i forsalg 250\, - kr.Billetpris i dørsalg 270\, -
  kr.Følg venligst link:https://www.place2book.com/da/sw2/sales/8yb1wwa2ji 
 Torsdag den 11 december 2025 spiller bandet en eksklusiv jubilæumskoncert 
 på V58 Aarhus i anledning af\,  at det i år[..]\nhttps://danseparaplyen.d
 k/events/buki-yamaz/
URL:https://danseparaplyen.dk/events/buki-yamaz/
END:VEVENT
END:VCALENDAR