BEGIN:VCALENDAR
VERSION:2.0
PRODID:-//eventon.com NONSGML v1.0//EN
CALSCALE:GREGORIAN
METHOD:PUBLISH
BEGIN:VEVENT
UID:69e7f1a9da00b
DTSTAMP:20260421T215241Z
DTSTART:20251213T160000Z
DTEND:20251214T010000Z
LOCATION:Elværket Åbyhøj Elværket Åbyhøj
SUMMARY:ALH Christmas Party 2025
DESCRIPTION:Join us for the ALH Christmas party\,  an evening of swinging b
 eats\,  delicious holiday dinner\,  and festive cheer! Embrace the communit
 y spirit as we celebrate the year gone by. 📅 DATE 13th of December\,  Sa
 turday17.00 &#8211; Entrance with Full Evening Pass Doors open for the dinn
 er18.00 &#8211; Welcome speech\,  Dinner\, [..]\nhttps://danseparaplyen.dk/
 events/alh-christmas-party-2025/
URL:https://danseparaplyen.dk/events/alh-christmas-party-2025/
END:VEVENT
END:VCALENDAR