BEGIN:VCALENDAR
VERSION:2.0
PRODID:-//eventon.com NONSGML v1.0//EN
CALSCALE:GREGORIAN
METHOD:PUBLISH
BEGIN:VEVENT
UID:69e7bf6c0caaf
DTSTAMP:20260421T181820Z
DTSTART:20251214T130000Z
DTEND:20251214T170000Z
LOCATION:Mejlgade 53 - Cafe Mellemfolk\,  1. sal\,  8000 Aarhus\,  Denmark Mejlgade 53 - Cafe Mellemfolk\,  1. sal\,  8000 Aarhus\,  Denmark
SUMMARY:La Milonguita in December - the last one
DESCRIPTION:(English below) Det er blevet efterår og tid for tango og inde
 ndørshygge! La Milonguita starter kl 14\,  og vi håber at se masser af je
 r glade tangosjæle &lt;3 OBS: Ingen intro! Adressen er stadig Café Mellem
 folk\,  Mejlgade 53\,  8000 Aarhus C. 1\,  sal i midterbygningen. Alting er
  som altid frivilligt[..]\nhttps://danseparaplyen.dk/events/la-milonguita-i
 n-december/
URL:https://danseparaplyen.dk/events/la-milonguita-in-december/
END:VEVENT
END:VCALENDAR