BEGIN:VCALENDAR
VERSION:2.0
PRODID:-//eventon.com NONSGML v1.0//EN
CALSCALE:GREGORIAN
METHOD:PUBLISH
BEGIN:VEVENT
UID:69e7aa76cb065
DTSTAMP:20260421T164854Z
DTSTART:20251214T140000Z
DTEND:20251214T180000Z
LOCATION:turkis turkis
SUMMARY:AFLYST TirsdagsTango på en søndag - Vi går til Milonguita
DESCRIPTION:Vi giver hverdagen et lille ekstra embraze &#8211; og du er vel
 kommen.Vi danser Argentisk Tango og samtidig er vi en del af et miljø i Aa
 rhus\,  som bare bliver bedre og bedre.Tak til alle som bakker op\,  bidrag
 er og gør hvert et møde til et lille eventyr.Læs mere om tangoen[..]\nht
 tps://danseparaplyen.dk/events/tirsdagstango-pa-en-sondag-pa-turkis-2/
URL:https://danseparaplyen.dk/events/tirsdagstango-pa-en-sondag-pa-turkis-2/
END:VEVENT
END:VCALENDAR