BEGIN:VCALENDAR
VERSION:2.0
PRODID:-//eventon.com NONSGML v1.0//EN
CALSCALE:GREGORIAN
METHOD:PUBLISH
BEGIN:VEVENT
UID:69e950adba73c
DTSTAMP:20260422T225021Z
DTSTART:20251209T183000Z
DTEND:20251209T220000Z
LOCATION:turkis turkis
SUMMARY:Sidste TirsdagsTango på Turkis i 2025 v/TDJ Victoria Huang
DESCRIPTION:Det spansk/argentinske par Adrian Coria og Victoria Huang har f
 ået plads i bilen sammen med Lone og Steffen fra Kolding. Det betyder at V
 ictoria holder rummet som TDJ denne sidste TirsdagsTango på Turkis &#8211;
  inden 2025 bliver til 2026! Vi giver hverdagen et lille ekstra embraze &#8
 211; og du er[..]\nhttps://danseparaplyen.dk/events/tirsdagstango-pa-turkis
 -70/
URL:https://danseparaplyen.dk/events/tirsdagstango-pa-turkis-70/
END:VEVENT
END:VCALENDAR