BEGIN:VCALENDAR
VERSION:2.0
PRODID:-//eventon.com NONSGML v1.0//EN
CALSCALE:GREGORIAN
METHOD:PUBLISH
BEGIN:VEVENT
UID:69ed8330333c5
DTSTAMP:20260426T031456Z
DTSTART:20251129T120000Z
DTEND:20251129T150000Z
LOCATION:Frederiksbjerg Skole Frederiksbjerg Skole
SUMMARY:Jam Circle Workshop w. Lasse
DESCRIPTION:Jam circles are a fun part of the Lindy Hop community. Being it
  our celebrations of someone’s birthday with a jam circle or a late-night
  spontaneous jam circle at social dance. But it can be daunting to particip
 ate and confusing to understand the social cues that govern a jam circle.[.
 .]\nhttps://danseparaplyen.dk/events/jam-circle-workshop-w-lasse/
URL:https://danseparaplyen.dk/events/jam-circle-workshop-w-lasse/
END:VEVENT
END:VCALENDAR