BEGIN:VCALENDAR
VERSION:2.0
PRODID:-//eventon.com NONSGML v1.0//EN
CALSCALE:GREGORIAN
METHOD:PUBLISH
BEGIN:VEVENT
UID:69e7d87e05b85
DTSTAMP:20260421T200518Z
DTSTART:20251213T181500Z
DTEND:20251214T010000Z
LOCATION:Studenterhus Aarhus Studenterhus Aarhus
SUMMARY:Salsaclave Julefest: Sidste Skoledag!
DESCRIPTION:Er du klar til den lækreste juledansefest!? Så ses vi den 13.
  december! Tilmelding er ikke nødvendigt &#8211; man møder bare op og hyg
 ger igennem! PROGRAM:🍹 19.15: Velkomstdrinks til de første 100 gæster 
 plus snacks og hygge 💃 19.30: Party Dance Surprice for alle (open level)
  med Sofie Bøye 🕺[..]\nhttps://danseparaplyen.dk/events/salsaclave-jule
 fest-sidste-skoledag/
URL:https://danseparaplyen.dk/events/salsaclave-julefest-sidste-skoledag/
END:VEVENT
END:VCALENDAR