BEGIN:VCALENDAR
VERSION:2.0
PRODID:-//eventon.com NONSGML v1.0//EN
CALSCALE:GREGORIAN
METHOD:PUBLISH
BEGIN:VEVENT
UID:69ecfafaf321c
DTSTAMP:20260425T173346Z
DTSTART:20251130T100000Z
DTEND:20251130T123000Z
LOCATION:Globus1
SUMMARY:Workshop med Selene Muñoz
DESCRIPTION:Workshop med Selene Muñoz\nhttps://danseparaplyen.dk/events/wo
 rkshop-med-selene-munoz/
URL:https://danseparaplyen.dk/events/workshop-med-selene-munoz/
END:VEVENT
END:VCALENDAR