BEGIN:VCALENDAR
VERSION:2.0
PRODID:-//eventon.com NONSGML v1.0//EN
CALSCALE:GREGORIAN
METHOD:PUBLISH
BEGIN:VEVENT
UID:69e97f2bcf52b
DTSTAMP:20260423T020843Z
DTSTART:20251208T183000Z
DTEND:20251208T203000Z
LOCATION:Andelssamfundet i Hjortshøj - AIH Andelssamfundet i Hjortshøj - AIH
SUMMARY:Groove\,  Gong & Grounding December UDSOLGT
DESCRIPTION:Forkæl dig selv og dit nervesystem med bevægelse og lyd Manda
 g d. 8. decemberKl. 16.30 &#8211; 18.30 Kl. 19.30 &#8211; 21.30 Dørene åb
 ner 10 minutter før vi starter. Vi starter med at lande i kroppen med helt
  blød\,  groundende\,  sanselig og nærmest meditativ Groove. Herefter fø
 lger en guidet kropsscanning liggende[..]\nhttps://danseparaplyen.dk/events
 /groove-gong-grounding-december-2/
URL:https://danseparaplyen.dk/events/groove-gong-grounding-december-2/
END:VEVENT
END:VCALENDAR