BEGIN:VCALENDAR
VERSION:2.0
PRODID:-//eventon.com NONSGML v1.0//EN
CALSCALE:GREGORIAN
METHOD:PUBLISH
BEGIN:VEVENT
UID:69eacb521210d
DTSTAMP:20260424T014554Z
DTSTART:20251206T093000Z
DTEND:20251206T120000Z
LOCATION:Valdemarsgade 1G\,  8000 Aarhus Valdemarsgade 1G\,  8000 Aarhus
SUMMARY:Juleshuffle! 👟2 SHUFFLE DANCE workshops: 1 for begyndere og 1 for letøvede!
DESCRIPTION:✨UPCOMING EVENT!✨💯 Lørdag d. 6. december 👟 SHUFFLE D
 ANCE WORKSHOP AARHUS!! Har du også set de fede shuffle-dance videoer på T
 ikTok og Instagram\,  og tænkt: DET VIL JEG OGSÅ GERNE?! Så har du mulig
 heden nu! I samarbejde med Tropica Dance Studio afholder jeg endnu en gang 
 en workshop\,  hvor vi[..]\nhttps://danseparaplyen.dk/events/juleshuffle-%f
 0%9f%91%9f2-shuffle-dance-workshops-1-for-begyndere-og-1-for-letovede/
URL:https://danseparaplyen.dk/events/juleshuffle-%f0%9f%91%9f2-shuffle-dance-workshops-1-for-begyndere-og-1-for-letovede/
END:VEVENT
END:VCALENDAR