BEGIN:VCALENDAR
VERSION:2.0
PRODID:-//eventon.com NONSGML v1.0//EN
CALSCALE:GREGORIAN
METHOD:PUBLISH
BEGIN:VEVENT
UID:69ece35a93bd2
DTSTAMP:20260425T155258Z
DTSTART:20251128T163000Z
DTEND:20251130T160000Z
LOCATION:Skovvangskolen Skovvangskolen
SUMMARY:LAMBADA WEEKEND!
DESCRIPTION:LAMBADA EVENT! ZOUK DANCERS ARE WELCOME AT THE PARTIES!Come joi
 n us for the grand finale of our Lambada autumn in Aarhus. This weekend wil
 l be full of good vibes\,  extraordinary rhythms and infectious dance joy t
 hat will leave your heart smiling and your feet begging for more. We are vi
 sited[..]\nhttps://danseparaplyen.dk/events/lambada-weekend/
URL:https://danseparaplyen.dk/events/lambada-weekend/
END:VEVENT
END:VCALENDAR