BEGIN:VCALENDAR
VERSION:2.0
PRODID:-//eventon.com NONSGML v1.0//EN
CALSCALE:GREGORIAN
METHOD:PUBLISH
BEGIN:VEVENT
UID:69ed6e25555df
DTSTAMP:20260426T014509Z
DTSTART:20251129T173000Z
DTEND:20251129T220000Z
LOCATION:Antroposofisk Kulturhus Antroposofisk Kulturhus
SUMMARY:18:30-20: Workshop "HOT RYTHMS - Trommer\,  Dans & Sang" Â·Â·Â· 20-23: FRI DANS med DJ SÃ¸renA / Miss Lisa
DESCRIPTION:TJANSEPLANER ER Ã…BNE for 3 MÃ…NEDER!SÃ¥ kan vi skrive os pÃ¥ i
  god tid &#8211; og aflyse i god tid\,  hvis ikke der er frivillige nok ðŸ˜
 ‰Kig ind pÃ¥ wannadance.dk/tjanseplan og find dine yndlingstjanser for okto
 ber\,  november og/eller januar!&#8211; &#8211; &#8211; &#8211; OBS: NYE PR
 ISER! Entre for Workshop: 60 kr.[..]\nhttps://danseparaplyen.dk/events/1830
 -20-workshop-hot-rythms-trommer-dans-sang-%c2%b7%c2%b7%c2%b7-20-23-fri-dans
 -med-dj-sorena-miss-lisa/
URL:https://danseparaplyen.dk/events/1830-20-workshop-hot-rythms-trommer-dans-sang-%c2%b7%c2%b7%c2%b7-20-23-fri-dans-med-dj-sorena-miss-lisa/
END:VEVENT
END:VCALENDAR