BEGIN:VCALENDAR
VERSION:2.0
PRODID:-//eventon.com NONSGML v1.0//EN
CALSCALE:GREGORIAN
METHOD:PUBLISH
BEGIN:VEVENT
UID:69ed56cceb66c
DTSTAMP:20260426T000532Z
DTSTART:20251129T181500Z
DTEND:20251129T230000Z
LOCATION:Folkestedet Carl Blochs Gade 28 \,  Aarhus C Folkestedet Carl Blochs Gade 28 \,  Aarhus C
SUMMARY:Salsa & Bachata Party - Bachata & Salsa Classes
DESCRIPTION:🎉 SATURDAYS SALSA &#038; BACHATA PARTY 🎉👌 PRICE 40kr /
  CASH or MOBILE PAY👉 👉 Provides access to both dance floors 💥NB! &
 gt;&gt; Bringing your own drinks/water is NOT ALOWED 💥NB 🍹 Affordable
  prices in the bar &gt;Vine /Beers /Soda/Water20kr/20kr/20kr/10kr&#8212;&#8
 212;&#8212;&#8212;&#8212;&#8212;&#8211;PROGRAM FOR THE NIGHT ☆● 19.15 &
 #8211; DOORS OPEN● 19.30 &#8211;[..]\nhttps://danseparaplyen.dk/events/sa
 lsa-bachata-party-bachata-salsa-classes-4/
URL:https://danseparaplyen.dk/events/salsa-bachata-party-bachata-salsa-classes-4/
END:VEVENT
END:VCALENDAR