BEGIN:VCALENDAR
VERSION:2.0
PRODID:-//eventon.com NONSGML v1.0//EN
CALSCALE:GREGORIAN
METHOD:PUBLISH
BEGIN:VEVENT
UID:69eab424b47ec
DTSTAMP:20260424T000700Z
DTSTART:20251206T113000Z
DTEND:20251206T163000Z
LOCATION:Teaterskolen Move'n Act Teaterskolen Move'n Act
SUMMARY:STILLPOINT - a 5RHYTHMS®  journey into Stillness
DESCRIPTION:A 5RHYTHMS® JOURNEY INTO STILLNESS (For English version see be
 low) Når året nærmer sig den mørkeste tid\,  inviteres vi indad.Til at 
 give slip på tempoet\,  lade lyset dæmpes og mærke det stille\,  levende
  rum inden i.I dansen kan vi opdage\,  at stilheden ikke er tom – den er 
 fyldt af[..]\nhttps://danseparaplyen.dk/events/stillpoint-a-5rhythms-journe
 y-into-stillness/
URL:https://danseparaplyen.dk/events/stillpoint-a-5rhythms-journey-into-stillness/
END:VEVENT
END:VCALENDAR