BEGIN:VCALENDAR
VERSION:2.0
PRODID:-//eventon.com NONSGML v1.0//EN
CALSCALE:GREGORIAN
METHOD:PUBLISH
BEGIN:VEVENT
UID:69ea582f8a0ee
DTSTAMP:20260423T173439Z
DTSTART:20251206T181500Z
DTEND:20251206T230000Z
LOCATION:Folkestedet Carl Blochs Gade 28 \,  Aarhus C Folkestedet Carl Blochs Gade 28 \,  Aarhus C
SUMMARY:Christmas Salsa & Bachata Party with SHOW & 2 Workshops /  Salsa & Bachata
DESCRIPTION:🎉 ChristmasSALSA &#038; BACHATA PARTY 🎉 👌 PRICE 40kr /
  CASH or MOBILE PAY 🎁NBEntrance &#038; Bar is Closed during SHOW ( 21.50
  -22.10 ) 🎁 💥NB! &gt;&gt; Bringing your own drinks/water is NOT ALOWE
 D 💥NB 🍹 Affordable prices in the bar &gt;Vine /Beers /Soda/Water20kr/
 20kr/20kr/10kr&#8212;&#8212;&#8212;&#8212;&#8212;&#8212;&#8212;&#8212;&#821
 2;&#8212;&#8212;&#8212;&#8211;PROGRAM FOR THE NIGHT ☆🤘 SHOW[..]\nhttps
 ://danseparaplyen.dk/events/christmas-salsa-bachata-party-with-show-2-works
 hops-salsa-bachata/
URL:https://danseparaplyen.dk/events/christmas-salsa-bachata-party-with-show-2-workshops-salsa-bachata/
END:VEVENT
END:VCALENDAR