BEGIN:VCALENDAR
VERSION:2.0
PRODID:-//eventon.com NONSGML v1.0//EN
CALSCALE:GREGORIAN
METHOD:PUBLISH
BEGIN:VEVENT
UID:69e65bda7d265
DTSTAMP:20260420T170114Z
DTSTART:20251220T100000Z
DTEND:20251220T121500Z
LOCATION:Blegdamsvej 1B\,  2200 København N\,  Danmark Blegdamsvej 1B\,  2200 København N\,  Danmark
SUMMARY:Workshops med Live Musik (Salsa Solo musikalitet & Rueda de Casino)
DESCRIPTION:Velkommen til vores Julelørdag!Vi fejrer julen med en dag fyld
 t med dans\,  glæde og god energi. 🕺Workshops med live musik.Gør dig k
 lar til to timers dans med Live musik med tre fantastiske stjerner fra den 
 cubanske scene i Danmark: Tony Moreaux\,  Eliel Lazo og Yasser Pino med en 
 10-minutters pause[..]\nhttps://danseparaplyen.dk/events/workshops-med-live
 -musik-salsa-solo-musikalitet-rueda-de-casino/
URL:https://danseparaplyen.dk/events/workshops-med-live-musik-salsa-solo-musikalitet-rueda-de-casino/
END:VEVENT
END:VCALENDAR