BEGIN:VCALENDAR
VERSION:2.0
PRODID:-//eventon.com NONSGML v1.0//EN
CALSCALE:GREGORIAN
METHOD:PUBLISH
BEGIN:VEVENT
UID:69ed27ee2ab12
DTSTAMP:20260425T204534Z
DTSTART:20251129T210000Z
DTEND:20251130T010000Z
LOCATION:CasaV58 CasaV58
SUMMARY:Christmas Dance Party - Julebal m. Dj Helledie
DESCRIPTION:Hooo hooo hoooo alle danseglade voksne &#8211; sÃ¥\,  er der dÃ
 ¸mt Julebal!! Julen er tid til at fejre og komme hinanden ved. Kom pÃ¥ floo
 r og dans\,  dans\,  dans\,  og mÃ¥ske kys lidt under mistelten. DÃ¸re Ã¥bn
 er kl. 22.00EntrÃ© 80\, - kr. inkl. garderobe For de lÃ¦kre grooves toppet 
 med de[..]\nhttps://danseparaplyen.dk/events/christmas-dance-party-julebal-
 m-dj-helledie/
URL:https://danseparaplyen.dk/events/christmas-dance-party-julebal-m-dj-helledie/
END:VEVENT
END:VCALENDAR