BEGIN:VCALENDAR
VERSION:2.0
PRODID:-//eventon.com NONSGML v1.0//EN
CALSCALE:GREGORIAN
METHOD:PUBLISH
BEGIN:VEVENT
UID:69eba1258e2d0
DTSTAMP:20260424T165813Z
DTSTART:20251203T180000Z
DTEND:20251203T203000Z
LOCATION:Aarhus Folkemusikhus\,  Viborgvej 53 Aarhus Folkemusikhus\,  Viborgvej 53
SUMMARY:Nordisk Dans Aarhus Bonusforløb
DESCRIPTION:Kan du godt lide at danse til Nordisk Dans\,  men har lyst til 
 at lære mere? Nordisk Dans Aarhus inviterer endnu en gang til et videregå
 ende danseforløb med Birthe Jørgensen! 🌟 Det er for dig som har prøve
 t kræfter med både polka\,  vals og schottish\,  og som er nysgerrig på[
 ..]\nhttps://danseparaplyen.dk/events/nordisk-dans-aarhus-bonusforlob-7/
URL:https://danseparaplyen.dk/events/nordisk-dans-aarhus-bonusforlob-7/
END:VEVENT
END:VCALENDAR