BEGIN:VCALENDAR
VERSION:2.0
PRODID:-//eventon.com NONSGML v1.0//EN
CALSCALE:GREGORIAN
METHOD:PUBLISH
BEGIN:VEVENT
UID:69eb57bca6cee
DTSTAMP:20260424T114500Z
DTSTART:20251204T170000Z
DTEND:20251204T203000Z
LOCATION:Skovvangskolen Skovvangskolen
SUMMARY:Ugekursus / Weekly class
DESCRIPTION:*English Below* Velkommen til ugekursus i west coast swing hver
  torsdag. Vi kører hold på to niveauer: begyndere og fortsættere/improve
 rs. 🔸BegyndereFor at deltage på ugekursus for begyndere skal du have ge
 nnemført vores begynderweekend i september 2025 ELLER have gennemført til
 svarende kurser andre steder. Det betyder at du skal kende til[..]\nhttps:/
 /danseparaplyen.dk/events/ugekursus-weekly-class-17/
URL:https://danseparaplyen.dk/events/ugekursus-weekly-class-17/
END:VEVENT
END:VCALENDAR