BEGIN:VCALENDAR
VERSION:2.0
PRODID:-//eventon.com NONSGML v1.0//EN
CALSCALE:GREGORIAN
METHOD:PUBLISH
BEGIN:VEVENT
UID:69e8a9875c28a
DTSTAMP:20260422T105711Z
DTSTART:20251211T180000Z
DTEND:20251211T210000Z
LOCATION:Cafe Mellemfolk (øverste sal!) Mejlgade 53\,  8000 Aarhus\,  Denmark Cafe Mellemfolk (øverste sal!) Mejlgade 53\,  8000 Aarhus\,  Denmark
SUMMARY:CHRISTMAS MILONGA  🥳 <3
DESCRIPTION:As you all know\,  we sadly have to move out of our little home
  after new year. So on our last day Dec 11th\,  we will make our yearly Chr
 istmas Milonga\,  and eat together\,  dance and enjoy! The concept is very 
 simple: there is no class this day\,  but a[..]\nhttps://danseparaplyen.dk/
 events/christmas-milonga-%f0%9f%a5%b3-3/
URL:https://danseparaplyen.dk/events/christmas-milonga-%f0%9f%a5%b3-3/
END:VEVENT
END:VCALENDAR